BEGIN:VCALENDAR
VERSION:2.0
PRODID:-//wp-events-plugin.com//7.1.7//EN
TZID:Europe/Berlin
X-WR-TIMEZONE:Europe/Berlin
BEGIN:VEVENT
UID:30@la-concept.net
DTSTART;TZID=Europe/Berlin:20210513T130000
DTEND;TZID=Europe/Berlin:20210513T134500
DTSTAMP:20210420T112707Z
URL:https://la-concept.net/events/dbd-kostenkalkuel-webinar-fuer-bauuntern
 ehmer/
SUMMARY:DBD-Kostenkalkül Webinar für Bauunternehmer
DESCRIPTION:asdfasdfasdfasdf
ATTACH;FMTTYPE=image/jpeg:https://la-concept.net/wp-content/uploads/2019/0
 6/LY_LAConcept_Schulung-Grafik.jpg
CATEGORIES:Schulung,Webinar
END:VEVENT
BEGIN:VTIMEZONE
TZID:Europe/Berlin
X-LIC-LOCATION:Europe/Berlin
BEGIN:DAYLIGHT
DTSTART:20210328T030000
TZOFFSETFROM:+0100
TZOFFSETTO:+0200
TZNAME:CEST
END:DAYLIGHT
END:VTIMEZONE
END:VCALENDAR