BEGIN:VCALENDAR
VERSION:2.0
PRODID:-//wp-events-plugin.com//7.1.7//EN
TZID:Europe/Berlin
X-WR-TIMEZONE:Europe/Berlin
BEGIN:VEVENT
UID:4@la-concept.net
DTSTART;TZID=Europe/Berlin:20190709T093000
DTEND;TZID=Europe/Berlin:20190709T163000
DTSTAMP:20190930T102439Z
URL:https://la-concept.net/events/dbd-kostenkalkul-schulung/
SUMMARY:DBD-Kostenkalkül Schulung
DESCRIPTION:asdfasdfasdfasdf
ATTACH;FMTTYPE=image/jpeg:https://la-concept.net/wp-content/uploads/2019/0
 6/LY_LAConcept_Schulung-Grafik.jpg
CATEGORIES:Schulung
END:VEVENT
BEGIN:VTIMEZONE
TZID:Europe/Berlin
X-LIC-LOCATION:Europe/Berlin
BEGIN:DAYLIGHT
DTSTART:20190331T030000
TZOFFSETFROM:+0100
TZOFFSETTO:+0200
TZNAME:CEST
END:DAYLIGHT
END:VTIMEZONE
END:VCALENDAR